BEGIN:VCALENDAR
VERSION:2.0
PRODID:-//PLVPB Actualités - ECPv6.15.20//NONSGML v1.0//EN
CALSCALE:GREGORIAN
METHOD:PUBLISH
X-WR-CALNAME:PLVPB Actualités
X-ORIGINAL-URL:https://actu.plvpb.org
X-WR-CALDESC:Évènements pour PLVPB Actualités
REFRESH-INTERVAL;VALUE=DURATION:PT1H
X-Robots-Tag:noindex
X-PUBLISHED-TTL:PT1H
BEGIN:VTIMEZONE
TZID:Europe/Paris
BEGIN:DAYLIGHT
TZOFFSETFROM:+0100
TZOFFSETTO:+0200
TZNAME:CEST
DTSTART:20250330T010000
END:DAYLIGHT
BEGIN:STANDARD
TZOFFSETFROM:+0200
TZOFFSETTO:+0100
TZNAME:CET
DTSTART:20251026T010000
END:STANDARD
BEGIN:DAYLIGHT
TZOFFSETFROM:+0100
TZOFFSETTO:+0200
TZNAME:CEST
DTSTART:20260329T010000
END:DAYLIGHT
BEGIN:STANDARD
TZOFFSETFROM:+0200
TZOFFSETTO:+0100
TZNAME:CET
DTSTART:20261025T010000
END:STANDARD
BEGIN:DAYLIGHT
TZOFFSETFROM:+0100
TZOFFSETTO:+0200
TZNAME:CEST
DTSTART:20270328T010000
END:DAYLIGHT
BEGIN:STANDARD
TZOFFSETFROM:+0200
TZOFFSETTO:+0100
TZNAME:CET
DTSTART:20271031T010000
END:STANDARD
END:VTIMEZONE
BEGIN:VEVENT
DTSTART;TZID=Europe/Paris:20260614T080000
DTEND;TZID=Europe/Paris:20260614T170000
DTSTAMP:20260419T185522
CREATED:20260402T195550Z
LAST-MODIFIED:20260415T102457Z
UID:9812-1781424000-1781456400@actu.plvpb.org
SUMMARY:Tournoi des 3 filets
DESCRIPTION:Le tournoi des 3 filets revient en 2026\, le 14 juin. \n\n\n\nPlus de précisions à venir (inscriptions\, horaires\, etc…). Le lieu est inchangé : Gymnase Anselme.
URL:https://actu.plvpb.org/agenda/tournoi-des-3-filets/
LOCATION:Gymnase Anselme\, 14 rue Antoinette\, Lyon\, 69003
CATEGORIES:A la Une (event),Sports
ATTACH;FMTTYPE=image/jpeg:https://actu.plvpb.org/wp-content/uploads/2026/04/tournoi-3-filets_2026_2_jaune_icone.jpg
END:VEVENT
END:VCALENDAR